BEGIN:VCALENDAR
VERSION:2.0
PRODID:-//LAPTh - ECPv6.15.17//NONSGML v1.0//EN
CALSCALE:GREGORIAN
METHOD:PUBLISH
X-ORIGINAL-URL:https://www.lapth.cnrs.fr
X-WR-CALDESC:Évènements pour LAPTh
REFRESH-INTERVAL;VALUE=DURATION:PT1H
X-Robots-Tag:noindex
X-PUBLISHED-TTL:PT1H
BEGIN:VTIMEZONE
TZID:UTC
BEGIN:STANDARD
TZOFFSETFROM:+0000
TZOFFSETTO:+0000
TZNAME:UTC
DTSTART:20250101T000000
END:STANDARD
END:VTIMEZONE
BEGIN:VEVENT
DTSTART;TZID=UTC:20260130T100000
DTEND;TZID=UTC:20260130T110000
DTSTAMP:20260420T052158
CREATED:20251221T122329Z
LAST-MODIFIED:20260130T105332Z
UID:13662-1769767200-1769770800@www.lapth.cnrs.fr
SUMMARY:Simulations and modeling for precision cosmology
DESCRIPTION:Speakers: Zarija Lukic\nOngoing and upcoming cosmology surveys aim to address some of the deepest questions in fundamental physics—from the nature of dark energy and dark matter to tests of gravity and particle physics on the largest observable scales. Interpreting these data\, which probe multiple cosmic epochs and physical scales\, is a formidable challenge: it is fundamentally an inverse problem in which we infer the underlying physics from imperfect\, biased\, and noisy observations. In this talk I will describe our simulation and modeling program at Berkeley Lab’s Computational Cosmology Center to support inference using Lyman-α forest and intergalactic medium measurements. We have developed Nyx\, a highly efficient and scalable cosmological hydrodynamics code\, to generate high-fidelity realizations needed to connect theory to data\, such as DESI observations. However\, producing suites of full-physics simulations at the required accuracy remains computationally expensive\, motivating complementary approaches. I will discuss our work on emulators—surrogate models trained on finite ensembles of simulations—as well as new hybrid strategies that combine physical modeling with generative ML/AI approaches.\nhttps://indico.in2p3.fr/event/38053/
URL:https://www.lapth.cnrs.fr/event/tba/
LOCATION:Auditorium Vivargent (LAPTh)
END:VEVENT
END:VCALENDAR